{
 "currentVersion": 11.5,
 "serviceDescription": "City of Appleton DEM LiDAR 2015 for Elevation Service",
 "serviceItemId": "1b10ded17cd042399d9273c01e6f0a8e",
 "name": "GP_Tools/Appleton_Mosaic",
 "description": "City of Appleton DEM LiDAR 2015 for Elevation Service",
 "extent": {
  "xmin": 814531.9799089176,
  "ymin": 547566.5963904248,
  "xmax": 846756.9799089176,
  "ymax": 597266.5963904248,
  "spatialReference": {
   "wkid": 103444,
   "latestWkid": 103444
  }
 },
 "initialExtent": {
  "xmin": 814531.9799089176,
  "ymin": 547566.5963904248,
  "xmax": 846756.9799089176,
  "ymax": 597266.5963904248,
  "spatialReference": {
   "wkid": 103444,
   "latestWkid": 103444
  }
 },
 "fullExtent": {
  "xmin": 814531.9799089176,
  "ymin": 547566.5963904248,
  "xmax": 846756.9799089176,
  "ymax": 597266.5963904248,
  "spatialReference": {
   "wkid": 103444,
   "latestWkid": 103444
  }
 },
 "sortableFields": "",
 "bandCount": 1,
 "pixelType": "F32",
 "minValues": [
  699.90002441406
 ],
 "maxValues": [
  929.56365966797
 ],
 "meanValues": [
  785.85316298964
 ],
 "stdvValues": [
  31.678333831523
 ],
 "serviceProperties": "Center<\/MosaicMethod>First<\/MosaicOperator>true<\/SortAscending><\/LockImageID><\/TileOrderField>0<\/TileOrderBase>0.000000<\/AvgImageSpacingX>0.000000<\/AvgImageSpacingY>0.0<\/ViewPointX>0.0<\/ViewPointY>0.0<\/ViewPointDefShiftX>0.0<\/ViewPointDefShiftY>None<\/CompressionMethod>75<\/CompressionQuality>0.010000<\/CompressionTolerance>Bilinear<\/SamplingMethod><\/ImageServiceProperties><\/ImageServer>",
 "allowedFields": "",
 "hasMultidimensions": false,
 "pixelSizeX": 5,
 "pixelSizeY": 5,
 "meanPixelSize": 1.5240030480060962,
 "datasetFormat": "IMAGINE Image",
 "uncompressedSize": 256253200,
 "blockWidth": 64,
 "blockHeight": 64,
 "compressionType": "None",
 "bandNames": [
  "Layer_1"
 ],
 "allowCopy": true,
 "allowAnalysis": true,
 "itemAccess": false,
 "inspectionCapabilities": "",
 "noDataValue": -3.4028234663852886E38,
 "noDataValues": [
  -3.4028234663852886E38
 ],
 "minPixelSize": 0,
 "maxPixelSize": 0,
 "copyrightText": "",
 "serviceDataType": "esriImageServiceDataTypeGeneric",
 "serviceSourceType": "esriImageServiceSourceTypeDataset",
 "objectIdField": "",
 "fields": [],
 "capabilities": "Image,Metadata,Mensuration",
 "defaultMosaicMethod": "Center",
 "allowedMosaicMethods": "",
 "sortField": "",
 "sortValue": null,
 "sortAscending": true,
 "mosaicOperator": "First",
 "defaultCompressionQuality": 75,
 "defaultResamplingMethod": "Bilinear",
 "maxImageHeight": 4100,
 "maxImageWidth": 15000,
 "allowRasterFunction": true,
 "rasterFunctionInfos": [
  {
   "name": "None",
   "description": "",
   "help": ""
  }
 ],
 "rasterTypeInfos": [
  {
   "name": "Raster Dataset",
   "description": "Supports all ArcGIS Raster Datasets",
   "help": ""
  }
 ],
 "mensurationCapabilities": "Basic",
 "hasHistograms": false,
 "hasColormap": false,
 "hasRasterAttributeTable": false,
 "minScale": 0,
 "maxScale": 0,
 "exportTilesAllowed": false,
 "supportsStatistics": false,
 "supportsAdvancedQueries": false,
 "editFieldsInfo": null,
 "ownershipBasedAccessControlForRasters": null,
 "allowComputeTiePoints": false,
 "useStandardizedQueries": true,
 "advancedQueryCapabilities": {
  "useStandardizedQueries": true,
  "supportsStatistics": false,
  "supportsOrderBy": false,
  "supportsDistinct": false,
  "supportsPagination": false
 },
 "spatialReference": {
  "wkid": 103444,
  "latestWkid": 103444
 }
}
