City of Appleton Digital Elevation model derived from 2017 LiDAR<\/SPAN><\/P><\/DIV><\/DIV>",
"serviceItemId": "8c4ff46d768b4f559c9987f7e8bec3f2",
"name": "Aerials/Appleton_DEM",
"description": "City of Appleton Digital Elevation model derived from 2017 LiDAR<\/SPAN><\/P><\/DIV><\/DIV>",
"extent": {
"xmin": 814531.9799089176,
"ymin": 547566.5963904248,
"xmax": 846756.9799089176,
"ymax": 597266.5963904248,
"spatialReference": {
"wkid": 103444,
"latestWkid": 103444
}
},
"initialExtent": {
"xmin": 814531.9799089176,
"ymin": 547566.5963904248,
"xmax": 846756.9799089176,
"ymax": 597266.5963904248,
"spatialReference": {
"wkid": 103444,
"latestWkid": 103444
}
},
"fullExtent": {
"xmin": 814531.9799089176,
"ymin": 547566.5963904248,
"xmax": 846756.9799089176,
"ymax": 597266.5963904248,
"spatialReference": {
"wkid": 103444,
"latestWkid": 103444
}
},
"sortableFields": "",
"bandCount": 1,
"pixelType": "F32",
"minValues": [
699.9000244140625
],
"maxValues": [
929.5636596679688
],
"meanValues": [
785.853162989636
],
"stdvValues": [
31.67833383114613
],
"serviceProperties": "Center<\/MosaicMethod>First<\/MosaicOperator>true<\/SortAscending><\/LockImageID><\/TileOrderField>0<\/TileOrderBase>0.000000<\/AvgImageSpacingX>0.000000<\/AvgImageSpacingY>0.0<\/ViewPointX>0.0<\/ViewPointY>0.0<\/ViewPointDefShiftX>0.0<\/ViewPointDefShiftY>None<\/CompressionMethod>75<\/CompressionQuality>0.010000<\/CompressionTolerance>Bilinear<\/SamplingMethod><\/ImageServiceProperties><\/ImageServer>",
"allowedFields": "",
"hasMultidimensions": false,
"pixelSizeX": 5,
"pixelSizeY": 5,
"meanPixelSize": 1.5240030480060962,
"datasetFormat": "FGDBR",
"uncompressedSize": 256253200,
"blockWidth": 128,
"blockHeight": 128,
"compressionType": "LZ77",
"bandNames": [
"Band_1"
],
"allowCopy": true,
"allowAnalysis": true,
"itemAccess": false,
"inspectionCapabilities": "",
"minPixelSize": 0,
"maxPixelSize": 0,
"copyrightText": "",
"serviceDataType": "esriImageServiceDataTypeGeneric",
"serviceSourceType": "esriImageServiceSourceTypeDataset",
"objectIdField": "",
"fields": [],
"capabilities": "Image,Metadata,Mensuration",
"defaultMosaicMethod": "Center",
"allowedMosaicMethods": "",
"sortField": "",
"sortValue": null,
"sortAscending": true,
"mosaicOperator": "First",
"defaultCompressionQuality": 75,
"defaultResamplingMethod": "Bilinear",
"maxImageHeight": 4100,
"maxImageWidth": 15000,
"allowRasterFunction": true,
"rasterFunctionInfos": [
{
"name": "None",
"description": "",
"help": ""
}
],
"rasterTypeInfos": [
{
"name": "Raster Dataset",
"description": "Supports all ArcGIS Raster Datasets",
"help": ""
}
],
"mensurationCapabilities": "Basic,3D",
"hasHistograms": true,
"hasColormap": false,
"hasRasterAttributeTable": false,
"minScale": 0,
"maxScale": 0,
"exportTilesAllowed": false,
"supportsStatistics": false,
"supportsAdvancedQueries": false,
"editFieldsInfo": null,
"ownershipBasedAccessControlForRasters": null,
"allowComputeTiePoints": false,
"useStandardizedQueries": true,
"advancedQueryCapabilities": {
"useStandardizedQueries": true,
"supportsStatistics": false,
"supportsOrderBy": false,
"supportsDistinct": false,
"supportsPagination": false
},
"spatialReference": {
"wkid": 103444,
"latestWkid": 103444
}
}