View In:
ArcGIS JavaScript
ArcGIS Online Map Viewer
ArcGIS Earth
Service Description: City of Appleton Digital Elevation model derived from 2017 LiDAR
Name: Aerials/Appleton_DEM
Description: City of Appleton Digital Elevation model derived from 2017 LiDAR
Single Fused Map Cache: false
Extent:
XMin: 814531.9799089176
YMin: 547566.5963904248
XMax: 846756.9799089176
YMax: 597266.5963904248
Spatial Reference: 103444
(103444)
LatestVCSWkid(0)
Initial Extent:
XMin: 814531.9799089176
YMin: 547566.5963904248
XMax: 846756.9799089176
YMax: 597266.5963904248
Spatial Reference: 103444
(103444)
LatestVCSWkid(0)
Full Extent:
XMin: 814531.9799089176
YMin: 547566.5963904248
XMax: 846756.9799089176
YMax: 597266.5963904248
Spatial Reference: 103444
(103444)
LatestVCSWkid(0)
Pixel Size X: 5.0
Pixel Size Y: 5.0
Band Count: 1
Pixel Type: F32
RasterFunction Infos: {"rasterFunctionInfos": [{
"name": "None",
"description": "",
"help": ""
}]}
Mensuration Capabilities: Basic,3D
Inspection Capabilities:
Has Histograms: true
Has Colormap: false
Has Multi Dimensions : false
Rendering Rule:
Min Scale: 0
Max Scale: 0
Copyright Text:
Service Data Type: esriImageServiceDataTypeGeneric
Min Values: 699.9000244140625
Max Values: 929.5636596679688
Mean Values: 785.853162989636
Standard Deviation Values: 31.67833383114613
Object ID Field:
Fields:
None
Default Mosaic Method: Center
Allowed Mosaic Methods:
SortField:
SortValue: null
Mosaic Operator: First
Default Compression Quality: 75
Default Resampling Method: Bilinear
Max Record Count: null
Max Image Height: 4100
Max Image Width: 15000
Max Download Image Count: null
Max Mosaic Image Count: null
Allow Raster Function: true
Allow Copy: true
Allow Analysis: true
Allow Compute TiePoints: false
Supports Statistics: false
Supports Advanced Queries: false
Use StandardizedQueries: true
Raster Type Infos:
Name: Raster Dataset
Description: Supports all ArcGIS Raster Datasets
Help:
Has Raster Attribute Table: false
Edit Fields Info: null
Ownership Based AccessControl For Rasters: null
Child Resources:
Info
Histograms
Statistics
Key Properties
Legend
Raster Function Infos
Supported Operations:
Export Image
Identify
Measure
Compute Histograms
Compute Statistics Histograms
Get Samples
Compute Class Statistics
Query Boundary
Compute Pixel Location
Compute Angles
Validate
Project
Calculate Volume